BEGIN:VCALENDAR
VERSION:2.0
PRODID:-//Lamanère - Lloc oficial del municipi - ECPv6.15.20//NONSGML v1.0//EN
CALSCALE:GREGORIAN
METHOD:PUBLISH
X-WR-CALNAME:Lamanère - Lloc oficial del municipi
X-ORIGINAL-URL:https://lamanere.fr/ca
X-WR-CALDESC:Esdeveniments per Lamanère - Lloc oficial del municipi
REFRESH-INTERVAL;VALUE=DURATION:PT1H
X-Robots-Tag:noindex
X-PUBLISHED-TTL:PT1H
BEGIN:VTIMEZONE
TZID:Europe/Paris
BEGIN:DAYLIGHT
TZOFFSETFROM:+0100
TZOFFSETTO:+0200
TZNAME:CEST
DTSTART:20230326T010000
END:DAYLIGHT
BEGIN:STANDARD
TZOFFSETFROM:+0200
TZOFFSETTO:+0100
TZNAME:CET
DTSTART:20231029T010000
END:STANDARD
BEGIN:DAYLIGHT
TZOFFSETFROM:+0100
TZOFFSETTO:+0200
TZNAME:CEST
DTSTART:20240331T010000
END:DAYLIGHT
BEGIN:STANDARD
TZOFFSETFROM:+0200
TZOFFSETTO:+0100
TZNAME:CET
DTSTART:20241027T010000
END:STANDARD
BEGIN:DAYLIGHT
TZOFFSETFROM:+0100
TZOFFSETTO:+0200
TZNAME:CEST
DTSTART:20250330T010000
END:DAYLIGHT
BEGIN:STANDARD
TZOFFSETFROM:+0200
TZOFFSETTO:+0100
TZNAME:CET
DTSTART:20251026T010000
END:STANDARD
END:VTIMEZONE
BEGIN:VEVENT
DTSTART;TZID=Europe/Paris:20240803T110000
DTEND;TZID=Europe/Paris:20240803T123000
DTSTAMP:20260421T185334
CREATED:20240730T183320Z
LAST-MODIFIED:20240730T192453Z
UID:3358-1722682800-1722688200@lamanere.fr
SUMMARY:[:fr]Programme "Festival 543"[:]
DESCRIPTION:Ho sentim\, aquesta entrada es troba disponible únicament en Francès. Voici le programme pour les trois premiers jours d’août de “Festival 543”. Lamanère est mentionnée! \nNous en profitons pour annoncer la représentation théâtrale du samedi 3 août à 11h à la Font de Dalt. \nDépliant festival 543 \n \n 
URL:https://lamanere.fr/ca/evenement/programme-festival-543/
END:VEVENT
BEGIN:VEVENT
DTSTART;TZID=Europe/Paris:20240803T110000
DTEND;TZID=Europe/Paris:20240803T123000
DTSTAMP:20260421T185334
CREATED:20240801T180220Z
LAST-MODIFIED:20240801T180220Z
UID:3371-1722682800-1722688200@lamanere.fr
SUMMARY:[:fr]Programme "Festival 543": modification du lieu de l'évènement[:]
DESCRIPTION:Ho sentim\, aquesta entrada es troba disponible únicament en Francès. Bonsoir\, \nLe spectacle théatral initialement prévu le samedi 3 août 2024 à 11h à Lamanère n’aura pas lieu à la Font de Dalt mais à l’aire “Pont du Taix”
URL:https://lamanere.fr/ca/evenement/programme-festival-543-modification-du-lieu-de-levenement/
END:VEVENT
BEGIN:VEVENT
DTSTART;TZID=Europe/Paris:20240803T180000
DTEND;TZID=Europe/Paris:20240803T210000
DTSTAMP:20260421T185334
CREATED:20240730T194151Z
LAST-MODIFIED:20240730T194151Z
UID:3363-1722708000-1722718800@lamanere.fr
SUMMARY:[:fr]Obrint Camins de Llibertat[:]
DESCRIPTION:Ho sentim\, aquesta entrada es troba disponible únicament en Francès. Projection d’un film\, à la salle polyvalente de la Mairie\, à propos des maquis antifranquistes des Catalans du Sud et du Nord\, qui ont aussi permis pendant la guerre\, à des opposants au régime nazi de franchir les Pyrénées\, en Catalogne et en Andorre. \nIls ont voulu\, après la guerre\, constituer des forces qui auraient permis de débarrasser l’Espagne de Franco. \nMais ça n’a pas marché…
URL:https://lamanere.fr/ca/evenement/obrint-camins-de-llibertat/
END:VEVENT
BEGIN:VEVENT
DTSTART;TZID=Europe/Paris:20240816T203000
DTEND;TZID=Europe/Paris:20240816T220000
DTSTAMP:20260421T185334
CREATED:20240811T075442Z
LAST-MODIFIED:20240811T080049Z
UID:3386-1723840200-1723845600@lamanere.fr
SUMMARY:[:fr]Projection du film "Vive les microbes" de Marie Monique Robin[:]
DESCRIPTION:Ho sentim\, aquesta entrada es troba disponible únicament en Francès. Ce film sera suivi d’une rencontre avec la réalisatrice Marie-Monique Robin
URL:https://lamanere.fr/ca/evenement/projection-du-film-vive-les-microbes-de-marie-monique-robin/
END:VEVENT
END:VCALENDAR