BEGIN:VCALENDAR
VERSION:2.0
PRODID:-//Lamanère - Lloc oficial del municipi - ECPv6.15.20//NONSGML v1.0//EN
CALSCALE:GREGORIAN
METHOD:PUBLISH
X-ORIGINAL-URL:https://lamanere.fr/ca
X-WR-CALDESC:Esdeveniments per Lamanère - Lloc oficial del municipi
REFRESH-INTERVAL;VALUE=DURATION:PT1H
X-Robots-Tag:noindex
X-PUBLISHED-TTL:PT1H
BEGIN:VTIMEZONE
TZID:Europe/Paris
BEGIN:DAYLIGHT
TZOFFSETFROM:+0100
TZOFFSETTO:+0200
TZNAME:CEST
DTSTART:20230326T010000
END:DAYLIGHT
BEGIN:STANDARD
TZOFFSETFROM:+0200
TZOFFSETTO:+0100
TZNAME:CET
DTSTART:20231029T010000
END:STANDARD
BEGIN:DAYLIGHT
TZOFFSETFROM:+0100
TZOFFSETTO:+0200
TZNAME:CEST
DTSTART:20240331T010000
END:DAYLIGHT
BEGIN:STANDARD
TZOFFSETFROM:+0200
TZOFFSETTO:+0100
TZNAME:CET
DTSTART:20241027T010000
END:STANDARD
BEGIN:DAYLIGHT
TZOFFSETFROM:+0100
TZOFFSETTO:+0200
TZNAME:CEST
DTSTART:20250330T010000
END:DAYLIGHT
BEGIN:STANDARD
TZOFFSETFROM:+0200
TZOFFSETTO:+0100
TZNAME:CET
DTSTART:20251026T010000
END:STANDARD
END:VTIMEZONE
BEGIN:VEVENT
DTSTART;TZID=Europe/Paris:20241026T170000
DTEND;TZID=Europe/Paris:20241026T170000
DTSTAMP:20260421T151945
CREATED:20240928T110324Z
LAST-MODIFIED:20240928T110324Z
UID:3419-1729962000-1729962000@lamanere.fr
SUMMARY:[:fr]CONCERT EGLISE ST SAUVEUR - Duo Agapanthe samedi 26 octobre 2024[:]
DESCRIPTION:Ho sentim\, aquesta entrada es troba disponible únicament en Francès. La veille de la Foire d’automne\, concert en l’Eglise St Sauveur de Lamanère: \nDuo voix et piano\, poésies et mélodies françaises\, espagnoles et catalanes. \nEntrée 10 Euros\, Tarifs réduits\, gratuits pour les moins de 18 ans
URL:https://lamanere.fr/ca/evenement/concert-eglise-st-sauveur-duo-agapanthe-samedi-26-octobre-2024/
END:VEVENT
END:VCALENDAR